BEGIN:VCALENDAR
PRODID:-//eluceo/ical//2.0/EN
VERSION:2.0
CALSCALE:GREGORIAN
BEGIN:VEVENT
UID:120fd9cd4e43dba1655e67d3cf8e7b1e
DTSTAMP:20260426T032136Z
SUMMARY:ZIVUG: Transition to Marriage (6 sessions)
DESCRIPTION:Jewish Federation in the Heart of New Jersey\nEvents\nhttps://j
 ewishheartnj.org/events/zivug-transition-to-marriage-6-sessions-1653656868
 \n\nJoin Rabbi Getzel and a cohort of other couples for a six-class series
  on love\, partnership\, and the conscious transition to marriage. Through
  Jewish wisdom\, guided exercises\, and frank conversations\, we will expl
 ore the growth and maintenance of vibrant relationships. Open to couples (
 all gender and multifaith expressions of partnership strongly welcome) in 
 the year preceding or following a wedding. 
DTSTART;TZID=America/New_York:20220705T200000
DTEND;TZID=America/New_York:20220705T213000
END:VEVENT
END:VCALENDAR
