BEGIN:VCALENDAR
PRODID:-//eluceo/ical//2.0/EN
VERSION:2.0
CALSCALE:GREGORIAN
BEGIN:VEVENT
UID:39115dc3bbcd8bc44eb8e7826182647f
DTSTAMP:20260425T215617Z
SUMMARY:Zivug: Conscious Transitions into a Second+ Marriage (6 sessions)
DESCRIPTION:Jewish Federation in the Heart of New Jersey\nEvents\nhttps://j
 ewishheartnj.org/events/zivug-conscious-transitions-into-a-second-marriage
 -6-sessions-1664725182\n\nJoin Rabbi Getzel and a cohort of other couples 
 for a six-class series on love\, partnership\, and the conscious transitio
 n to a second (or subsequent) marriage. Second marriages end in divorce ev
 en more often than the first\, so spending time visioning together and set
 ting expectations can really help start a new marriage off on the “right
  foot.” Through Jewish wisdom\, guided exercises\, and frank conversatio
 ns\, we will explore the growth and maintenance of vibrant relationships. 
 Open to...
DTSTART;TZID=America/New_York:20221025T200000
DTEND;TZID=America/New_York:20221025T213000
END:VEVENT
END:VCALENDAR
