BEGIN:VCALENDAR
PRODID:-//eluceo/ical//2.0/EN
VERSION:2.0
CALSCALE:GREGORIAN
BEGIN:VEVENT
UID:4ab1a6b18c0533cee46acf0fe3aed64f
DTSTAMP:20260419T222117Z
SUMMARY:Zionism:  An Emotional State
DESCRIPTION:Jewish Federation in the Heart of New Jersey\nEvents\nhttps://j
 ewishheartnj.org/events/zionism--an-emotional-state-1691443104\n\nEmotion 
 lies at the heart of all national movements\, and Zionism is no exception.
  Professor Derek J. Penslar\, Harvard University\, will discuss his new bo
 ok\, "Zionism: An Emotional State\," which offers a portrait of Zionism th
 at reconfigures how we understand Jewish identity amid continuing debates 
 on the role of nationalism in the modern world. This lecture is free and o
 pen to the public. Free parking is available with online vehicle registrat
 ion.\n\nRSVP on the Bildner Center website:\n\nhtt...
DTSTART;TZID=America/New_York:20230920T193000
DTEND;TZID=America/New_York:20230920T210000
END:VEVENT
END:VCALENDAR
