BEGIN:VCALENDAR
PRODID:-//eluceo/ical//2.0/EN
VERSION:2.0
CALSCALE:GREGORIAN
BEGIN:VEVENT
UID:4c01bc28934cc31b87193eec02095102
DTSTAMP:20260423T014523Z
SUMMARY:Yom Hazikaron Ceremony and Yom Haazmaut Dinner and Dance
DESCRIPTION:Jewish Federation in the Heart of New Jersey\nEvents\nhttps://j
 ewishheartnj.org/events/yom-hazikaron-ceremony-and-yom-haazmaut-dinner-and
 -dance-1668461105\n\nCommemorate the most important days on the Israeli ca
 lendar\, on the exact day it happens in Israel.
DTSTART;TZID=America/New_York:20230425T180000
DTEND;TZID=America/New_York:20230425T223000
END:VEVENT
END:VCALENDAR
