BEGIN:VCALENDAR
PRODID:-//eluceo/ical//2.0/EN
VERSION:2.0
CALSCALE:GREGORIAN
BEGIN:VEVENT
UID:2f100915b4d3c9dc095c8571beb67960
DTSTAMP:20260425T180949Z
SUMMARY:Yom Hashoah with Living Voices
DESCRIPTION:Jewish Federation in the Heart of New Jersey\nEvents\nhttps://j
 ewishheartnj.org/events/yom-hashoah-with-living-voices-1678990841\n\nWhat 
 Does It Mean To Survive?\nBear witness to the world of Anne Frank and othe
 r young people living through the Holocaust\, from the point of view of An
 ne Frank's "best friend."
DTSTART;TZID=America/New_York:20230420T163000
DTEND;TZID=America/New_York:20230420T183000
END:VEVENT
END:VCALENDAR
