BEGIN:VCALENDAR
PRODID:-//eluceo/ical//2.0/EN
VERSION:2.0
CALSCALE:GREGORIAN
BEGIN:VEVENT
UID:6609c94bc7631d524d4a6efece00a521
DTSTAMP:20260424T085639Z
SUMMARY:Yom Ha'Atzmaut Celebration
DESCRIPTION:Jewish Federation in the Heart of New Jersey\nEvents\nhttps://j
 ewishheartnj.org/events/yom-haatzmaut-celebration-1676307393\n\nJoin Congr
 egation Torat El for our Yom Hazikaron Service followed by Yom Ha'Atzmaut 
 Celebration
DTSTART;TZID=America/New_York:20230425T183000
DTEND;TZID=America/New_York:20230425T203000
END:VEVENT
END:VCALENDAR
