BEGIN:VCALENDAR
PRODID:-//eluceo/ical//2.0/EN
VERSION:2.0
CALSCALE:GREGORIAN
BEGIN:VEVENT
UID:25e3841c1abe327ec9e9e8f6e5e90925
DTSTAMP:20260425T004050Z
SUMMARY:World Wide Wrap
DESCRIPTION:Jewish Federation in the Heart of New Jersey\nEvents\nhttps://j
 ewishheartnj.org/events/world-wide-wrap-1671642917\n\nJoin us and fellow J
 ews around the world for this special day. Help us make a Minyan.\nNo expe
 rience is necessary. Bring the kids. Learn and practice the mitzvah of Tef
 illin.\nBring your own Tefillin if possible.\nAfter the program\, stay for
  a nosh.\nRSVP with the Synagogue Office by Thursday\, February 9th\, 732-
 462-0254.
DTSTART;TZID=America/New_York:20230212T080000
DTEND;TZID=America/New_York:20230212T100000
END:VEVENT
END:VCALENDAR
