BEGIN:VCALENDAR
PRODID:-//eluceo/ical//2.0/EN
VERSION:2.0
CALSCALE:GREGORIAN
BEGIN:VEVENT
UID:e6612f5b0b68914830f3ef03361c6dd8
DTSTAMP:20260426T011544Z
SUMMARY:Why Are We So Divided?
DESCRIPTION:Jewish Federation in the Heart of New Jersey\nEvents\nhttps://j
 ewishheartnj.org/events/why-are-we-so-divided-1660837234\n\nJoin us follow
 ing morning Shabbat Services (Approx. 12 PM) as Brookdale Community Colleg
 e Vice President/Political Science Professor\, Matthew Reed\, leads us in 
 an examination of the factors and processes that have led to the deep divi
 sions in America today.\n\nCome hear his answers\, then give us yours!\n\n
 RSVP with the Synagogue Office by Wednesday\, September 7th. - 732-462-025
 4
DTSTART;TZID=America/New_York:20220910T120000
DTEND;TZID=America/New_York:20220910T140000
END:VEVENT
END:VCALENDAR
