BEGIN:VCALENDAR
PRODID:-//eluceo/ical//2.0/EN
VERSION:2.0
CALSCALE:GREGORIAN
BEGIN:VEVENT
UID:ce2af82accfb03c69fe85fd0d9c48cf4
DTSTAMP:20260424T033535Z
SUMMARY:What's Eating Our Kids?  What're Our Kids Eating?
DESCRIPTION:Jewish Federation in the Heart of New Jersey\nEvents\nhttps://j
 ewishheartnj.org/events/whats-eating-our-kids--whatre-our-kids-eating-1672
 686027\n\nJoin WEEE (Women of Emanu-El) for a panel discussion on the ever
 -growing issue of eating disorders in childen.
DTSTART;TZID=America/New_York:20230119T190000
DTEND;TZID=America/New_York:20230119T200000
END:VEVENT
END:VCALENDAR
