BEGIN:VCALENDAR
PRODID:-//eluceo/ical//2.0/EN
VERSION:2.0
CALSCALE:GREGORIAN
BEGIN:VEVENT
UID:550d2efaec9d077afb7486a2b685f21f
DTSTAMP:20260424T183044Z
SUMMARY:Wednesday Night Bingo
DESCRIPTION:Jewish Federation in the Heart of New Jersey\nEvents\nhttps://j
 ewishheartnj.org/events/wednesday-night-bingo-1666286762\n\nPlease join us
  on Wednesdays as we reopen our doors for fun and games. We are dedicating
  the 2022-2023 Bingo Season to the memory of Marc Beckenstein\, long-time 
 Bingo Supervisor.\nDoors Open at 6:30 PM. Bingo begins at 7 PM at the Free
 hold Jewish Center.
DTSTART;TZID=America/New_York:20221102T183000
DTEND;TZID=America/New_York:20221102T220000
END:VEVENT
END:VCALENDAR
