BEGIN:VCALENDAR
PRODID:-//eluceo/ical//2.0/EN
VERSION:2.0
CALSCALE:GREGORIAN
BEGIN:VEVENT
UID:dcb802394b1ada45f1d829cc9c756f53
DTSTAMP:20260424T143831Z
SUMMARY:Walk4Friends
DESCRIPTION:Jewish Federation in the Heart of New Jersey\nEvents\nhttps://j
 ewishheartnj.org/events/walk4friends-1675130432\n\nJoin us for a day of co
 mmunity spirit as we walk together\nto celebrate friendship\, inclusion & 
 community!  See our website:  http://www.walk4friends.com  for inforamt
 ion
DTSTART;TZID=America/New_York:20230507T120000
DTEND;TZID=America/New_York:20230507T140000
END:VEVENT
END:VCALENDAR
