BEGIN:VCALENDAR
PRODID:-//eluceo/ical//2.0/EN
VERSION:2.0
CALSCALE:GREGORIAN
BEGIN:VEVENT
UID:315bdf2fef99793fa8cacaa7002a0b4a
DTSTAMP:20260425T134309Z
SUMMARY:Veterans Day Luncheon
DESCRIPTION:Jewish Federation in the Heart of New Jersey\nEvents\nhttps://j
 ewishheartnj.org/events/veterans-day-luncheon-1666725918\n\nJoin the Congr
 egation B&#39\;nai Israel Ezra Group in honoring those who have served. Jo
 in us for lunch and a special program to remember those who we have lost. 
 This is a complimentary event but an RSVP is required to attend.
DTSTART;TZID=America/New_York:20221111T123000
DTEND;TZID=America/New_York:20221111T143000
END:VEVENT
END:VCALENDAR
