BEGIN:VCALENDAR
PRODID:-//eluceo/ical//2.0/EN
VERSION:2.0
CALSCALE:GREGORIAN
BEGIN:VEVENT
UID:6da9466db1957121f27230852fc38e6d
DTSTAMP:20260423T151200Z
SUMMARY:United Hatzalah of Israel Ambucycle Dedication at The Hebrew Academ
 y
DESCRIPTION:Jewish Federation in the Heart of New Jersey\nEvents\nhttps://j
 ewishheartnj.org/events/united-hatzalah-of-israel-ambucycle-dedication-at-
 the-hebrew-academy-1676471581\n\nThe vehicle\, an ambucycle (motorcycle-am
 bulance)\, is the organization’s flagship vehicle that is used by emerge
 ncy medical service (EMS) first responders in Israel and enables responder
 s to arrive at the scenes of medical emergencies quickly and safely. Durin
 g the dedication ceremony\, students from the school will hold a special p
 resentation which will be followed by a short talk about the organization
 ’s activities by Gavy Friedson\, the organization’s Director of Intern
 ational...
DTSTART;TZID=America/New_York:20230228T093000
DTEND;TZID=America/New_York:20230228T103000
END:VEVENT
END:VCALENDAR
