BEGIN:VCALENDAR
PRODID:-//eluceo/ical//2.0/EN
VERSION:2.0
CALSCALE:GREGORIAN
BEGIN:VEVENT
UID:37279900d373807a51f6c2d6d783c402
DTSTAMP:20260421T054639Z
SUMMARY:UNITE for ISRAEL
DESCRIPTION:Jewish Federation in the Heart of New Jersey\nEvents\nhttps://j
 ewishheartnj.org/events/unite-for-israel\n\nPlease join us this Wednesday\
 , Oct. 11\, at 7:00 pm at Chabad of the Shore as we come together to suppo
 rt and uplift one another\, and to offer our heartfelt prayers for peace a
 nd security in Israel.⁠
DTSTART;TZID=America/New_York:20231011T190000
DTEND;TZID=America/New_York:20231011T210000
END:VEVENT
END:VCALENDAR
