BEGIN:VCALENDAR
PRODID:-//eluceo/ical//2.0/EN
VERSION:2.0
CALSCALE:GREGORIAN
BEGIN:VEVENT
UID:cb88d628d5d1f146ae91f9b14cea88e0
DTSTAMP:20260423T232746Z
SUMMARY:Tu B'Shvat Kumsitz (Sing Along)
DESCRIPTION:Jewish Federation in the Heart of New Jersey\nEvents\nhttps://j
 ewishheartnj.org/events/tu-bshvat-kumsitz-sing-along-1671791932\n\nMakhela
 t Hamercaz Jewish Choir of Central NJ is holding a Tu B’Shvat Kumsitz (s
 ing along) on Sunday\, February 5\, 2023\, 7:00 pm. This is a free program
  with everyone singing our favorite Israel songs to help celebrate Israel
 ’s 75th birthday. It is not a concert and there is no admission fee.
DTSTART;TZID=America/New_York:20230205T190000
DTEND;TZID=America/New_York:20230205T210000
END:VEVENT
END:VCALENDAR
