BEGIN:VCALENDAR
PRODID:-//eluceo/ical//2.0/EN
VERSION:2.0
CALSCALE:GREGORIAN
BEGIN:VEVENT
UID:6197b817281d1534e310704a28953e9c
DTSTAMP:20260419T170401Z
SUMMARY:Try Your Hand At Poker!
DESCRIPTION:Jewish Federation in the Heart of New Jersey\nEvents\nhttps://j
 ewishheartnj.org/events/try-your-hand-at-poker-1707927617\n\nJoin Temple E
 manu-El of Edison and the JCC of Middlesex County for Poker: Texas Hold&#3
 9\;em!\nFor more information and to register go to:\nhttps://www.mikespoke
 rtables.com/event-info/jewish-community-center-temple-emanu-el-1
DTSTART;TZID=America/New_York:20240302T183000
DTEND;TZID=America/New_York:20240302T203000
END:VEVENT
END:VCALENDAR
