BEGIN:VCALENDAR
PRODID:-//eluceo/ical//2.0/EN
VERSION:2.0
CALSCALE:GREGORIAN
BEGIN:VEVENT
UID:1dbc3fc10d25c306abd523035d0f5278
DTSTAMP:20260423T160122Z
SUMMARY:Try a Shabbat Service
DESCRIPTION:Jewish Federation in the Heart of New Jersey\nEvents\nhttps://j
 ewishheartnj.org/events/try-a-shabbat-service-1677703551\n\nTry our explan
 atory learners&#39\; Shabbat service. Open to all Jews who want to learn\,
  especially if you haven&#39\;t been in a synagogue since your cousin Mall
 ory&#39\;s bat mitzvah in 2007. Come for some prayer and meditation\, sing
 ing and discussion of some of Judaism&#39\;s big ideas. All in half an hou
 r\, followed by a free friendly lunch at Congregation Agudath Achim.
DTSTART;TZID=America/New_York:20230304T110000
DTEND;TZID=America/New_York:20230304T130000
END:VEVENT
END:VCALENDAR
