BEGIN:VCALENDAR
PRODID:-//eluceo/ical//2.0/EN
VERSION:2.0
CALSCALE:GREGORIAN
BEGIN:VEVENT
UID:8604065d0d6ad807ab99b6fa9b36fea9
DTSTAMP:20260424T033530Z
SUMMARY:"Travel Series - The Anne Frank House in Amsterdam"
DESCRIPTION:Jewish Federation in the Heart of New Jersey\nEvents\nhttps://j
 ewishheartnj.org/events/travel-series---the-anne-frank-house-in-amsterdam-
 1674508412\n\nThis is a free Zoom event in a series "Travel the Jewish Wor
 ld Virtually with Us" and will focus on the Anne Frank House in Amsterdam\
 , moderated by Aaron Peterer.
DTSTART;TZID=America/New_York:20230129T130000
DTEND;TZID=America/New_York:20230129T143000
END:VEVENT
END:VCALENDAR
