BEGIN:VCALENDAR
PRODID:-//eluceo/ical//2.0/EN
VERSION:2.0
CALSCALE:GREGORIAN
BEGIN:VEVENT
UID:07b3fe68e6bd3d96b9dcf798d421bc90
DTSTAMP:20260426T041749Z
SUMMARY:Tova Mirvis at Anshe Emeth Memorial Temple
DESCRIPTION:Jewish Federation in the Heart of New Jersey\nEvents\nhttps://j
 ewishheartnj.org/events/tova-mirvis-at-anshe-emeth-memorial-temple-1662655
 451\n\nThe Renee Reiss & Anita Kaplan Jewish Identity In Literature Series
 \n\nAn Intimate Tale of Departure ... The Heartache That Accompanies the A
 bandonment of One Way of Life in Search of Another\n\nIn her memoir\, The 
 Book of Separation\, Ms. Mirvis discusses her divorce\, her decision to le
 ave the Orthodox community\, and the bittersweet realities of navigating a
  new life as a single mother.\nTova Mirvis is an award winning author and 
 speaker who graduated from Columbia University and immediately w...
DTSTART;TZID=America/New_York:20221023T103000
DTEND;TZID=America/New_York:20221023T121500
END:VEVENT
END:VCALENDAR
