BEGIN:VCALENDAR
PRODID:-//eluceo/ical//2.0/EN
VERSION:2.0
CALSCALE:GREGORIAN
BEGIN:VEVENT
UID:dc60fbca66a81d88477260278efb1f1e
DTSTAMP:20260425T114209Z
SUMMARY:Tinton Falls Menorah Lighting
DESCRIPTION:Jewish Federation in the Heart of New Jersey\nEvents\nhttps://j
 ewishheartnj.org/events/tinton-falls-menorah-lighting-1669066838\n\nThe Ti
 nton Falls Menorah Lighting will now be on December 18th at 4:15 PM led by
  Cantor Gabrielle Clissold from Monmouth Reform Temple at 1420 W Park Ave\
 , Tinton Falls\, NJ 07712
DTSTART;TZID=America/New_York:20221218T161500
DTEND;TZID=America/New_York:20221218T170000
END:VEVENT
END:VCALENDAR
