BEGIN:VCALENDAR
PRODID:-//eluceo/ical//2.0/EN
VERSION:2.0
CALSCALE:GREGORIAN
BEGIN:VEVENT
UID:3b9b1a024d7ac34b8a88494657845f4f
DTSTAMP:20260426T040214Z
SUMMARY:“The Woman in Gold” by Gustav Klimt\, a talk led by Professor M
 aurice Mahler
DESCRIPTION:Jewish Federation in the Heart of New Jersey\nEvents\nhttps://j
 ewishheartnj.org/events/the-woman-in-gold-by-gustav-klimt-a-talk-led-by-pr
 ofessor-maurice-mahler-1662582665\n\nThe Jewish Heritage Museum of Monmout
 h County presents\n“The Woman in Gold” by Gustav Klimt\, a talk led by
  Professor Maurice Mahler on Wednesday\, October 26th\, 2022 @ 2 PM. This 
 program is available in-person and on Zoom. Tickets are $10 for members\, 
 $12 for non-members.\n\nThe Museum welcomes back Professor Maurice Mahler\
 , to present a discussion on the famous painting known as “The Woman in 
 Gold” by artist Gustav Klimt. Once stolen from a Jewish family in the ru
 n-up to World War II\,...
DTSTART;TZID=America/New_York:20221026T140000
DTEND;TZID=America/New_York:20221026T160000
END:VEVENT
END:VCALENDAR
