BEGIN:VCALENDAR
PRODID:-//eluceo/ical//2.0/EN
VERSION:2.0
CALSCALE:GREGORIAN
BEGIN:VEVENT
UID:446072e9f225c09e923df6e9b54460cd
DTSTAMP:20260419T125208Z
SUMMARY:The Rise of Antisemitism on College Campuses
DESCRIPTION:Jewish Federation in the Heart of New Jersey\nEvents\nhttps://j
 ewishheartnj.org/events/the-rise-of-antisemitism-on-college-campuses-17118
 91088\n\nJoin us for a discussion on the rise of antisemitism on college c
 ampuses.\n\nSpeakers: Rabbi Esther Reed\, Rutgers University Hillel\n\nDan
  Rozett\, Director\, Community Relations & Israel Engagement for the Jewis
 h Federation of the Heart of New Jersey.
DTSTART;TZID=America/New_York:20240414T183000
DTEND;TZID=America/New_York:20240414T203000
END:VEVENT
END:VCALENDAR
