BEGIN:VCALENDAR
PRODID:-//eluceo/ical//2.0/EN
VERSION:2.0
CALSCALE:GREGORIAN
BEGIN:VEVENT
UID:c1ee132f4252c07e63c06fc1b1d23fb0
DTSTAMP:20260422T234154Z
SUMMARY:"The Power Worshippers"
DESCRIPTION:Jewish Federation in the Heart of New Jersey\nEvents\nhttps://j
 ewishheartnj.org/events/the-power-worshippers-1679264791\n\nThis is a free
  Zoom event with Katherine Stewart\, author of "The Power Worshippers\,"\,
  who will discuss the rising threat of today's Religious Right.  This is a
  political movement that seeks to replace our foundational democratic prin
 ciples and institutions with a state grounded on  particular "approved " v
 ersions of religion\, answering to what some adherents call a "biblical wo
 rldview."  \n\nTo register for this free Zoom event\, go to www.ebjc.org/P
 owerWorshippers
DTSTART;TZID=America/New_York:20230420T203000
DTEND;TZID=America/New_York:20230420T220000
END:VEVENT
END:VCALENDAR
