BEGIN:VCALENDAR
PRODID:-//eluceo/ical//2.0/EN
VERSION:2.0
CALSCALE:GREGORIAN
BEGIN:VEVENT
UID:cac472936cc70c6f614741e4b2dad086
DTSTAMP:20260425T181958Z
SUMMARY:The Main Event - Women's Philanthropy
DESCRIPTION:Jewish Federation in the Heart of New Jersey\nEvents\nhttps://j
 ewishheartnj.org/events/the-main-event---womens-philanthropy-1647294956\n\
 nJoin us September 15\, 2020 at 6:00 PM.  Jewish Federation in the Heart o
 f NJ Women's Philanthropy is proud to host the 2022 Main Event\, in person
 .  Registration and Sponsorship opportunities:  jewishheartnj.org/maineven
 t  
DTSTART;TZID=America/New_York:20220915T180000
DTEND;TZID=America/New_York:20220915T210000
END:VEVENT
END:VCALENDAR
