BEGIN:VCALENDAR
PRODID:-//eluceo/ical//2.0/EN
VERSION:2.0
CALSCALE:GREGORIAN
BEGIN:VEVENT
UID:5d7f923edf3474de4d6031260efa12cf
DTSTAMP:20260423T153248Z
SUMMARY:"The Jews of Italy Before the Holocaust"
DESCRIPTION:Jewish Federation in the Heart of New Jersey\nEvents\nhttps://j
 ewishheartnj.org/events/the-jews-of-italy-before-the-holocaust-1679266162\
 n\nThe East Brunswick Public Library Foundation and the East Brunswick Jew
 ish Center Men's Club present this program about the Jews of Italy Before 
 the Holocaust.\nThis program is presented in loving memory of Dr Michael K
 esler\, who began this series.\n\nThe Keynote Speaker will be Francesca Br
 egoli\, who is Associate Professor of History at Queens College and the Gr
 aduate Center of CUNY  and who is well versed in the notable features of I
 talian-Jewish social and cultural life over the centuries.
DTSTART;TZID=America/New_York:20230416T140000
DTEND;TZID=America/New_York:20230416T160000
END:VEVENT
END:VCALENDAR
