BEGIN:VCALENDAR
PRODID:-//eluceo/ical//2.0/EN
VERSION:2.0
CALSCALE:GREGORIAN
BEGIN:VEVENT
UID:86ddf10bf666a75f89b586c89646b19b
DTSTAMP:20260425T033626Z
SUMMARY:The Holy Temple LEGO Model - A Unique Experience
DESCRIPTION:Jewish Federation in the Heart of New Jersey\nEvents\nhttps://j
 ewishheartnj.org/events/the-holy-temple-lego-model---a-unique-experience-1
 677769128\n\nLEGO fans of all ages\, and those interested in Jewish Histor
 y. On Sunday March 19th\, five temple Men&#39\;s Clubs will be hosting a m
 ulti-men’s club event\, where Lego Master\, Yitzy Kasowitz of jbrick.com
  will bring his 6000+ Lego model of the Second Temple (scale - 1/613) to o
 ur temple. He will explain and demonstrate the magnificent details based o
 n his extensive research. This is a unique opportunity to learn about\, an
 d experience the Holy Temple as never before\, bringing it to life. Bring 
 you...
DTSTART;TZID=America/New_York:20230319T130000
DTEND;TZID=America/New_York:20230319T150000
END:VEVENT
END:VCALENDAR
