BEGIN:VCALENDAR
PRODID:-//eluceo/ical//2.0/EN
VERSION:2.0
CALSCALE:GREGORIAN
BEGIN:VEVENT
UID:b64e41770b65690dd0fff03e48c874a1
DTSTAMP:20260425T212449Z
SUMMARY:The Heroic Story of Master Sgt. Roddie Edmonds
DESCRIPTION:Jewish Federation in the Heart of New Jersey\nEvents\nhttps://j
 ewishheartnj.org/events/the-heroic-story-of-master-sgt-roddie-edmonds-1659
 371627\n\nIn honor of our American War Veterans the JCC of Middlesex Count
 y presents "The Heroic Story of Master Sgt. Roddie Edmonds". The program w
 ill take place on Tuesday\, November 15\, 2022 @ 7pm at the JCC of Middles
 ex County located at 1775 Oak Tree Road in Edison. Master Sgt. Roddie Edmo
 nds is the only American soldier recognized by Yad Vashem as Righteous Amo
 ng the Nations. The Keynote speaker will be Pastor Chris Edmonds\, the son
  of Roddie Edmonds. The program includes a screening of the award-...
DTSTART;TZID=America/New_York:20221115T190000
DTEND;TZID=America/New_York:20221115T210000
END:VEVENT
END:VCALENDAR
