BEGIN:VCALENDAR
PRODID:-//eluceo/ical//2.0/EN
VERSION:2.0
CALSCALE:GREGORIAN
BEGIN:VEVENT
UID:2d4d5a121e3c793a693b62a0e099ca79
DTSTAMP:20260423T153611Z
SUMMARY:The Daughter of Auschwitz:  Tova Friedman recounts her story
DESCRIPTION:Jewish Federation in the Heart of New Jersey\nEvents\nhttps://j
 ewishheartnj.org/events/the-daughter-of-auschwitz--tova-friedman-recounts-
 her-story-1671469491\n\nTova Friedman\, one of the youngest survivors of A
 uschwitz will speak on her new book\, on zoom\,\, The Daughter of Auschwit
 z: My story of Resilience\, Survival and Hope.\n\nTo quote from the back o
 f her book\, " Tova was 4 when she and her parents were sent to a Nazi lab
 or camp....and was almost 6 when she and her mother were forced into a pac
 ked cattle truck and sent to Auschwitz II\," also know as Birkenau.  She e
 xperienced numerous escapes from death\n"As Nazi killing squads roamed Bir
 kenau...
DTSTART;TZID=America/New_York:20230208T193000
DTEND;TZID=America/New_York:20230208T210000
END:VEVENT
END:VCALENDAR
