BEGIN:VCALENDAR
PRODID:-//eluceo/ical//2.0/EN
VERSION:2.0
CALSCALE:GREGORIAN
BEGIN:VEVENT
UID:9295f2dfabdb0ec4701710b72c643dfd
DTSTAMP:20260425T181948Z
SUMMARY:"The  Barcelona Disputation of 1263"
DESCRIPTION:Jewish Federation in the Heart of New Jersey\nEvents\nhttps://j
 ewishheartnj.org/events/the--barcelona-disputation-of-1263-1674506687\n\nT
 his is a fee Zoom event\, but you must register on the EBJC website:  ebjc
 .org  and look on the right hand side of the screen for the "Jewish Histor
 y from Biblical Times" series and fill out the form.
DTSTART;TZID=America/New_York:20230126T203000
DTEND;TZID=America/New_York:20230126T213000
END:VEVENT
END:VCALENDAR
