BEGIN:VCALENDAR
PRODID:-//eluceo/ical//2.0/EN
VERSION:2.0
CALSCALE:GREGORIAN
BEGIN:VEVENT
UID:fdb7d3901bbd6b8e7a42e7402f8a239e
DTSTAMP:20260422T041107Z
SUMMARY:Temple Rummage Sale
DESCRIPTION:Jewish Federation in the Heart of New Jersey\nEvents\nhttps://j
 ewishheartnj.org/events/temple-rummage-sale-1683776165\n\nJoin Temple B'na
 i  Shalom for our Rummage Sale to be held on Sunday\, June 4th\, 9:30 am -
  3:00 pm.  Household items\, clothing\, Furniture\, shoes\, books\, and to
 ys!  If you are a bargain hunter or looking for collectibles or antiques\,
  stop on by.  Refreshments for sale.  If you have any questions\, email lo
 risiedler@yahoo.com
DTSTART;TZID=America/New_York:20230604T093000
DTEND;TZID=America/New_York:20230604T150000
END:VEVENT
END:VCALENDAR
