BEGIN:VCALENDAR
PRODID:-//eluceo/ical//2.0/EN
VERSION:2.0
CALSCALE:GREGORIAN
BEGIN:VEVENT
UID:ab060b676e4e5dfbb5a1889a520431c6
DTSTAMP:20260425T232813Z
SUMMARY:Temple Emanu-El's 41st Annual Spring Concert - From Bima To Broadwa
 y!
DESCRIPTION:Jewish Federation in the Heart of New Jersey\nEvents\nhttps://j
 ewishheartnj.org/events/temple-emanu-els-41st-annual-spring-concert---from
 -bima-to-broadway-1677609399\n\nJoin Temple Emanu-El for an evening of ama
 zing music.\nFeaturing Cantor Emily Simkin\, Rabbi Vicki L. Axe and the Te
 mple Emanu-El Choir.\nAccompanied by Alex Pryrodny.
DTSTART;TZID=America/New_York:20230422T200000
DTEND;TZID=America/New_York:20230422T213000
END:VEVENT
END:VCALENDAR
