BEGIN:VCALENDAR
PRODID:-//eluceo/ical//2.0/EN
VERSION:2.0
CALSCALE:GREGORIAN
BEGIN:VEVENT
UID:76e92de1cc8446e68394e9f64aa2b77b
DTSTAMP:20260422T183725Z
SUMMARY:Teen Lunch n Learns-Mussar Class
DESCRIPTION:Jewish Federation in the Heart of New Jersey\nEvents\nhttps://j
 ewishheartnj.org/events/teen-lunch-n-learns-mussar-class-1663955279\n\nFor
  Post B'nei Mitzvah aged Teens\n\nDiscussion & Activity Based Programs - C
 urriculum from Chai Mitzvah\n\nTeens who complete at least 7 of one course
  will be eligible for an Israel scholarship \nfrom the Chai Mitzvah Progra
 m\n\nTeen Musar (Saturdays 12-1PM)\nTorah learning that can be applied to 
 character development\, meaningful discussions\, and practices to cultivat
 e each middah (Jewish value). \nOct. 29\, Nov. 12\, Jan. 14\, Jan 28\, Feb
 . 18\, March 18\, April 15\, May 20\, June 17
DTSTART;TZID=America/New_York:20221029T120000
DTEND;TZID=America/New_York:20230617T130000
END:VEVENT
END:VCALENDAR
