BEGIN:VCALENDAR
PRODID:-//eluceo/ical//2.0/EN
VERSION:2.0
CALSCALE:GREGORIAN
BEGIN:VEVENT
UID:5c6c714c5028f254556ece4c368ec031
DTSTAMP:20260424T033541Z
SUMMARY:Tea and Scones Anyone? The Social History of Afternoon Tea
DESCRIPTION:Jewish Federation in the Heart of New Jersey\nEvents\nhttps://j
 ewishheartnj.org/events/tea-and-scones-anyone-the-social-history-of-aftern
 oon-tea-1669666526\n\nGillian Perry joins us from "across the pond" via Zo
 om to take us on an entertaining and interesting foray into the history\, 
 customs and etiquette of tea drinking in England as we enjoy our tea and s
 weet treats.
DTSTART;TZID=America/New_York:20230131T133000
DTEND;TZID=America/New_York:20230131T150000
END:VEVENT
END:VCALENDAR
