BEGIN:VCALENDAR
PRODID:-//eluceo/ical//2.0/EN
VERSION:2.0
CALSCALE:GREGORIAN
BEGIN:VEVENT
UID:60e3935fe108925b72fc5078a20977a9
DTSTAMP:20260420T071035Z
SUMMARY:Tashlikh Service at Lake Topanemus
DESCRIPTION:Jewish Federation in the Heart of New Jersey\nEvents\nhttps://j
 ewishheartnj.org/events/tashlikh-service-at-lake-topanemus-1693577435\n\nJ
 oin us at Lake Topanemus for a Special Tashlikh Service.\n251 Pond Road\, 
 Freehold\, NJ 07728\n\nRefreshments will follow the service.\n\nPlease RSV
 P with the Synagogue Office by Friday\, September 22nd\, Noon\n\nTashlikh\
 , which literally translates to “casting off”\, is a ceremony performe
 d during the High Holidays.\nDuring this ceremony\, Jews symbolically cast
  off the sins of the previous year by tossing bread crumbs into flowing wa
 ter.
DTSTART;TZID=America/New_York:20230924T100000
DTEND;TZID=America/New_York:20230924T110000
END:VEVENT
END:VCALENDAR
