BEGIN:VCALENDAR
PRODID:-//eluceo/ical//2.0/EN
VERSION:2.0
CALSCALE:GREGORIAN
BEGIN:VEVENT
UID:14a5275ae7ecca107dfa55b041d1c421
DTSTAMP:20260425T004204Z
SUMMARY:Sundays with Mr. Sam and PJ Library at The Hebrew Academy
DESCRIPTION:Jewish Federation in the Heart of New Jersey\nEvents\nhttps://j
 ewishheartnj.org/events/sundays-with-mr-sam-and-pj-library-at-the-hebrew-a
 cademy-1662990090\n\nSunday morning music with Mr. Sam\, crafts\, snacks a
 nd a PJ Library book! Spend quality family time on Sundays at The Hebrew A
 cademy! Ideal for children 0-4 years old!
DTSTART;TZID=America/New_York:20230521T093000
DTEND;TZID=America/New_York:20230521T103000
END:VEVENT
END:VCALENDAR
