BEGIN:VCALENDAR
PRODID:-//eluceo/ical//2.0/EN
VERSION:2.0
CALSCALE:GREGORIAN
BEGIN:VEVENT
UID:068ac3a000ff6e910cf2a06122464db7
DTSTAMP:20260426T000755Z
SUMMARY:Sundays at The Hebrew Academy with Mr. Sam and PJ Library
DESCRIPTION:Jewish Federation in the Heart of New Jersey\nEvents\nhttps://j
 ewishheartnj.org/events/sundays-at-tha-with-mr-sam-and-pj-library-16629892
 08\n\nSunday morning music with Mr. Sam\, crafts\, snacks and a PJ Library
  book! Spend quality family time on Sundays at The Hebrew Academy! Ideal f
 or children 0-4 years old!
DTSTART;TZID=America/New_York:20221120T093000
DTEND;TZID=America/New_York:20221120T103000
END:VEVENT
END:VCALENDAR
