BEGIN:VCALENDAR
PRODID:-//eluceo/ical//2.0/EN
VERSION:2.0
CALSCALE:GREGORIAN
BEGIN:VEVENT
UID:31e2217183e28da130c6373a3f89ba0c
DTSTAMP:20260425T184617Z
SUMMARY:Sukkot Luncheon at JCC of Middlesex County
DESCRIPTION:Jewish Federation in the Heart of New Jersey\nEvents\nhttps://j
 ewishheartnj.org/events/sukkot-luncheon-at-jcc-of-middlesex-county-1659381
 335\n\nJoin us as we celebrate the joyous holiday of Sukkot at the JCC of 
 Middlesex County. Sukkot Luncheon on Thursday October 13\, 2022 @ 11:30am.
  Menu from a Kosher Chinese Restaurant. Early Bird Pricing (Register by Se
 ptember 29): $15/Member\, $18/Guest. Standard Pricing (Register from Septe
 mber 30 - October 3): $18/Member\, $21/Guest. No registration after Octobe
 r 3rd due to Jewish Holiday Schedule. Sorry no refunds. Musical entertainm
 ent by Avi Wisnia. Proof of Vaccination Required to Attend. To ...
DTSTART;TZID=America/New_York:20221013T113000
DTEND;TZID=America/New_York:20221013T140000
END:VEVENT
END:VCALENDAR
