BEGIN:VCALENDAR
PRODID:-//eluceo/ical//2.0/EN
VERSION:2.0
CALSCALE:GREGORIAN
BEGIN:VEVENT
UID:2857400dc8673784bfef69581bbb8807
DTSTAMP:20260423T083713Z
SUMMARY:Stitch and Kvetch - Knitting Group!
DESCRIPTION:Jewish Federation in the Heart of New Jersey\nEvents\nhttps://j
 ewishheartnj.org/events/stitch-and-kvetch---knitting-group-1673543686\n\nA
 ll levels welcomed even those who never have knitted before! Please come e
 njoy some stitching\, kvetching and wine drinking! We will meet every Wedn
 esday night from 7-9pm.
DTSTART;TZID=America/New_York:20230118T190000
DTEND;TZID=America/New_York:20230118T210000
END:VEVENT
END:VCALENDAR
