BEGIN:VCALENDAR
PRODID:-//eluceo/ical//2.0/EN
VERSION:2.0
CALSCALE:GREGORIAN
BEGIN:VEVENT
UID:1fa964af08573e2a2d12ba8a5bef0488
DTSTAMP:20260426T040039Z
SUMMARY:Steven Weisman: How Judaism Became an American Religion
DESCRIPTION:Jewish Federation in the Heart of New Jersey\nEvents\nhttps://j
 ewishheartnj.org/events/steven-weisman-how-judaism-became-an-american-reli
 gion-1663265908\n\nPlease join Anshe Emeth Memorial Temple for:\n\nThe Kee
 pers of Jewish Excellence\nSteven R. Weisman\nHow Judaism Became an Americ
 an Religion\nSunday\, December 4\, 10:30am\nWeisman will explore how Judai
 sm in America went through dramatic shifts in rituals\, beliefs\, and doct
 rines in the 19th century as it struggled to adapt to an open\, modern soc
 iety.\nSteven Weisman is Vice President for Publications and Communication
 s at the Peterson Institute for International Economics. He had previously
  be...
DTSTART;TZID=America/New_York:20221204T103000
DTEND;TZID=America/New_York:20221204T121500
END:VEVENT
END:VCALENDAR
