BEGIN:VCALENDAR
PRODID:-//eluceo/ical//2.0/EN
VERSION:2.0
CALSCALE:GREGORIAN
BEGIN:VEVENT
UID:519d722882b2d9d8548b36f942b030f5
DTSTAMP:20260425T121741Z
SUMMARY:Spring Lake Menorah Lighting
DESCRIPTION:Jewish Federation in the Heart of New Jersey\nEvents\nhttps://j
 ewishheartnj.org/events/spring-lake-menorah-lighting-1670256658\n\nCandle 
 lighting and songs will be led by Cantor Gabrielle Clissold of Monmouth Re
 form Temple.  Mayor Jennifer Naughton and the Township of Spring Lake welc
 ome everyone!
DTSTART;TZID=America/New_York:20221218T183000
DTEND;TZID=America/New_York:20221218T193000
END:VEVENT
END:VCALENDAR
