BEGIN:VCALENDAR
PRODID:-//eluceo/ical//2.0/EN
VERSION:2.0
CALSCALE:GREGORIAN
BEGIN:VEVENT
UID:3cdfb5c392b587b3a11c1d0697dd1d9c
DTSTAMP:20260422T014731Z
SUMMARY:Special Shabbat in Solidarity with Israel
DESCRIPTION:Jewish Federation in the Heart of New Jersey\nEvents\nhttps://j
 ewishheartnj.org/events/special-shabbat-in-solidarity-with-israel\n\nCongr
 egation Etz Chaim - Monroe Township Jewish Center will be hosting a commun
 ity service to express solidarity to gather for thoughts\, prayer and son
 g united in strength and hope.
DTSTART;TZID=America/New_York:20231013T183000
DTEND;TZID=America/New_York:20231013T200000
END:VEVENT
END:VCALENDAR
