BEGIN:VCALENDAR
PRODID:-//eluceo/ical//2.0/EN
VERSION:2.0
CALSCALE:GREGORIAN
BEGIN:VEVENT
UID:df0050e427b5f80441e954d5d1dc06a7
DTSTAMP:20260420T163133Z
SUMMARY:Siyum for the First Born & Chametz Burning
DESCRIPTION:Jewish Federation in the Heart of New Jersey\nEvents\nhttps://j
 ewishheartnj.org/events/siyum-for-the-first-born--chametz-burning-17074981
 26\n\nDo your search for Chametz on Sunday evening.\nJoin us on Monday mor
 ning for Minyan and the Siyum for the First Born. Breakfast will follow mo
 rning services.\nThen drop off your Chametz in our fire pit.\nThis is also
  the last chance to sell your Chametz to Rabbi Langer.\nRSVP with the Syna
 gogue Office by Wednesday\, April 17th.
DTSTART;TZID=America/New_York:20240422T071500
DTEND;TZID=America/New_York:20240422T091500
END:VEVENT
END:VCALENDAR
