BEGIN:VCALENDAR
PRODID:-//eluceo/ical//2.0/EN
VERSION:2.0
CALSCALE:GREGORIAN
BEGIN:VEVENT
UID:2430064bd4f6ffdda8e419a1e61bec9b
DTSTAMP:20260423T083435Z
SUMMARY:Siyum For the First Born & Chametz Burning
DESCRIPTION:Jewish Federation in the Heart of New Jersey\nEvents\nhttps://j
 ewishheartnj.org/events/siyum-for-the-first-born--chametz-burning-16752734
 57\n\nJoin us at Freehold Jewish Center on Wednesday for the Siyum of the 
 First Born and drop off your Chametz in our fire pit. Last chance to see y
 our Chametz to the Rabbi.
DTSTART;TZID=America/New_York:20230405T080000
DTEND;TZID=America/New_York:20230405T090000
END:VEVENT
END:VCALENDAR
