BEGIN:VCALENDAR
PRODID:-//eluceo/ical//2.0/EN
VERSION:2.0
CALSCALE:GREGORIAN
BEGIN:VEVENT
UID:d4a9e95a03164c77baab469a94469753
DTSTAMP:20260423T114732Z
SUMMARY:Sisterhood Game Day
DESCRIPTION:Jewish Federation in the Heart of New Jersey\nEvents\nhttps://j
 ewishheartnj.org/events/sisterhood-game-day-1681266261\n\nBring your favor
 ite games- mahjong\, canasta\, boggle\, scrabble\, etc. This is a Communit
 y event- so we encourage you to bring your pals. join us in ROOM 2-- Bring
  your lunch & have a Play Day! Please RSVP to pgkremen@yahoo.com (so we ca
 n make sure we have enough tables for you & what games you are bringing).
DTSTART;TZID=America/New_York:20230414T123000
DTEND;TZID=America/New_York:20230414T153000
END:VEVENT
END:VCALENDAR
