BEGIN:VCALENDAR
PRODID:-//eluceo/ical//2.0/EN
VERSION:2.0
CALSCALE:GREGORIAN
BEGIN:VEVENT
UID:a809283b5c83f8d7ddc25ae4b004c740
DTSTAMP:20260419T230545Z
SUMMARY:Sisterhood Berachot Zoom Service and Chat
DESCRIPTION:Jewish Federation in the Heart of New Jersey\nEvents\nhttps://j
 ewishheartnj.org/events/sisterhood-berachot-zoom-service-and-chat-16935779
 01\n\nPlease join us for this special service which we do every other mont
 h.\nAfter the blessings*\, we can chat about a variety of things. Everyone
  is welcome to attend.\nProgram sponsored by the Sisterhood of Congregatio
 n Agudath Achim.\nPlease use the Zoom link below to join us:\nhttps://us02
 web.zoom.us/j/9303697101?pwd=enlkREl2eDVQMVdxSElIRGJRay9DZz09\nOr go to ww
 w.zoom.us\; enter the Meeting ID: 930 369 7101 and Password: 753491.\nIf y
 ou do not have video or audio on your computer\, you can alway...
DTSTART;TZID=America/New_York:20231024T193000
DTEND;TZID=America/New_York:20231024T213000
END:VEVENT
END:VCALENDAR
