BEGIN:VCALENDAR
PRODID:-//eluceo/ical//2.0/EN
VERSION:2.0
CALSCALE:GREGORIAN
BEGIN:VEVENT
UID:33cf5417b503990bfda921fafdaf01d6
DTSTAMP:20260425T151329Z
SUMMARY:Sisterhood Berachot Zoom Service and Chat
DESCRIPTION:Jewish Federation in the Heart of New Jersey\nEvents\nhttps://j
 ewishheartnj.org/events/sisterhood-berachot-zoom-service-and-chat-16842487
 26\n\nPlease join us for this special service that we do every other month
 . After the blessings\, we can chat about a variety of things. Everyone is
  welcome to attend.\nProgram sponsored by the Sisterhood of Congregation A
 gudath Achim.\n\nPlease use the Zoom link below to join us:\nhttps://us02w
 eb.zoom.us/j/9303697101?pwd=enlkREl2eDVQMVdxSElIRGJRay9DZz09\nOr go to www
 .zoom.us\; enter the Meeting ID: 930 369 7101 and Password: 753491.\nIf yo
 u do not have video or audio on your computer\, you can always...
DTSTART;TZID=America/New_York:20230620T193000
DTEND;TZID=America/New_York:20230620T213000
END:VEVENT
END:VCALENDAR
