BEGIN:VCALENDAR
PRODID:-//eluceo/ical//2.0/EN
VERSION:2.0
CALSCALE:GREGORIAN
BEGIN:VEVENT
UID:c011265c1ed9e49c96f364604f77d6f5
DTSTAMP:20260423T153245Z
SUMMARY:Shimon Smith Concert - A Taste of Israel
DESCRIPTION:Jewish Federation in the Heart of New Jersey\nEvents\nhttps://j
 ewishheartnj.org/events/shimon-smith-concert---a-taste-of-israel-167871803
 1\n\nJoin Anshe Emeth Memorial Temple for the Shimon Smith Concert on Apri
 l 1 at 8:00 PM.\n\nBorn in South Korea (yes really!)\, raised in Hoboken u
 ntil the age of 5 and then in Israel until - now\, Shimon is excited to be
  back in his home state. Shimon is now the Cantorial Soloist and Artist in
  Residence at Temple Emanuel in Westfield. Shimon is one of the leading So
 ngleaders/Cantorial Soloists in Israel and was Cantorial Soloist and head 
 of the B’nei Mitzvah program at The Daniel Centers for Ref...
DTSTART;TZID=America/New_York:20230401T200000
DTEND;TZID=America/New_York:20230401T213000
END:VEVENT
END:VCALENDAR
