BEGIN:VCALENDAR
PRODID:-//eluceo/ical//2.0/EN
VERSION:2.0
CALSCALE:GREGORIAN
BEGIN:VEVENT
UID:cd6db901a5ae8911c17781ac398044f4
DTSTAMP:20260422T234124Z
SUMMARY:Shavuot Explained with Rabbi Langer
DESCRIPTION:Jewish Federation in the Heart of New Jersey\nEvents\nhttps://j
 ewishheartnj.org/events/shavuot-explained-with-rabbi-langer-1684248356\n\n
 Do you know the Modern Religious Observances associated with Shavuot?\n\nJ
 oin Rabbi Langer for a little dairy nosh and to learn about the Rituals of
  Shavuot and the Agricultural\, Scriptural\, and Ceremonial importance tha
 t are part of this holiday.\n\nRSVP to the Synagogue Office by Friday\, Ma
 y 19th.
DTSTART;TZID=America/New_York:20230521T100000
DTEND;TZID=America/New_York:20230521T120000
END:VEVENT
END:VCALENDAR
