BEGIN:VCALENDAR
PRODID:-//eluceo/ical//2.0/EN
VERSION:2.0
CALSCALE:GREGORIAN
BEGIN:VEVENT
UID:45b93774ec4c60e56efb828e4892976e
DTSTAMP:20260421T094700Z
SUMMARY:Shabbat services at Neve Shalom with speaker Dan Rozett
DESCRIPTION:Jewish Federation in the Heart of New Jersey\nEvents\nhttps://j
 ewishheartnj.org/events/shabbat-services-with-speaker-dan-rozett-169782223
 4\n\nHear Dan Rozett of Jewish Federation in the Heart of New Jersey speak
  about the complexities of the war in Israel.
DTSTART;TZID=America/New_York:20231028T093000
DTEND;TZID=America/New_York:20231028T123000
END:VEVENT
END:VCALENDAR
