BEGIN:VCALENDAR
PRODID:-//eluceo/ical//2.0/EN
VERSION:2.0
CALSCALE:GREGORIAN
BEGIN:VEVENT
UID:34477b6b3205753a6c7ab87c5eb26f18
DTSTAMP:20260425T014153Z
SUMMARY:Shabbat Service Honoring Dr. Martin Luther King\, Jr.
DESCRIPTION:Jewish Federation in the Heart of New Jersey\nEvents\nhttps://j
 ewishheartnj.org/events/shabbat-service-honoring-dr-martin-luther-king-jr-
 1671469771\n\nJoin Temple Emanu-El of Edison for a very special Shabbat Se
 rvice honoring Dr. Martin Luther King\, Jr.\nOur guest speaker will be Rev
 erend Dr. Ronald Owens of New Hope Baptist Church featuring combined choir
 s from Temple Emanu-El and New Hope Baptist Church.
DTSTART;TZID=America/New_York:20230113T190000
DTEND;TZID=America/New_York:20230113T200000
END:VEVENT
END:VCALENDAR
